BEGIN:VCALENDAR
VERSION:2.0
PRODID:-//ShanPull Sports - ECPv6.15.20//NONSGML v1.0//EN
CALSCALE:GREGORIAN
METHOD:PUBLISH
X-WR-CALNAME:ShanPull Sports
X-ORIGINAL-URL:https://shanpullsports.com
X-WR-CALDESC:Events for ShanPull Sports
REFRESH-INTERVAL;VALUE=DURATION:PT1H
X-Robots-Tag:noindex
X-PUBLISHED-TTL:PT1H
BEGIN:VTIMEZONE
TZID:America/New_York
BEGIN:DAYLIGHT
TZOFFSETFROM:-0500
TZOFFSETTO:-0400
TZNAME:EDT
DTSTART:20200308T070000
END:DAYLIGHT
BEGIN:STANDARD
TZOFFSETFROM:-0400
TZOFFSETTO:-0500
TZNAME:EST
DTSTART:20201101T060000
END:STANDARD
BEGIN:DAYLIGHT
TZOFFSETFROM:-0500
TZOFFSETTO:-0400
TZNAME:EDT
DTSTART:20210314T070000
END:DAYLIGHT
BEGIN:STANDARD
TZOFFSETFROM:-0400
TZOFFSETTO:-0500
TZNAME:EST
DTSTART:20211107T060000
END:STANDARD
BEGIN:DAYLIGHT
TZOFFSETFROM:-0500
TZOFFSETTO:-0400
TZNAME:EDT
DTSTART:20220313T070000
END:DAYLIGHT
BEGIN:STANDARD
TZOFFSETFROM:-0400
TZOFFSETTO:-0500
TZNAME:EST
DTSTART:20221106T060000
END:STANDARD
BEGIN:DAYLIGHT
TZOFFSETFROM:-0500
TZOFFSETTO:-0400
TZNAME:EDT
DTSTART:20230312T070000
END:DAYLIGHT
BEGIN:STANDARD
TZOFFSETFROM:-0400
TZOFFSETTO:-0500
TZNAME:EST
DTSTART:20231105T060000
END:STANDARD
BEGIN:DAYLIGHT
TZOFFSETFROM:-0500
TZOFFSETTO:-0400
TZNAME:EDT
DTSTART:20240310T070000
END:DAYLIGHT
BEGIN:STANDARD
TZOFFSETFROM:-0400
TZOFFSETTO:-0500
TZNAME:EST
DTSTART:20241103T060000
END:STANDARD
BEGIN:DAYLIGHT
TZOFFSETFROM:-0500
TZOFFSETTO:-0400
TZNAME:EDT
DTSTART:20250309T070000
END:DAYLIGHT
BEGIN:STANDARD
TZOFFSETFROM:-0400
TZOFFSETTO:-0500
TZNAME:EST
DTSTART:20251102T060000
END:STANDARD
BEGIN:DAYLIGHT
TZOFFSETFROM:-0500
TZOFFSETTO:-0400
TZNAME:EDT
DTSTART:20260308T070000
END:DAYLIGHT
BEGIN:STANDARD
TZOFFSETFROM:-0400
TZOFFSETTO:-0500
TZNAME:EST
DTSTART:20261101T060000
END:STANDARD
END:VTIMEZONE
BEGIN:VEVENT
DTSTART;VALUE=DATE:20250624
DTEND;VALUE=DATE:20250801
DTSTAMP:20260422T073000
CREATED:20250429T155519Z
LAST-MODIFIED:20250622T174135Z
UID:4089-1750723200-1754006399@shanpullsports.com
SUMMARY:Summer Basketball Skills Program
DESCRIPTION:ShanPull Sports Free Summer Basketball Skills & Wellness Program\nIn session the months of June and July Time: 9-2:30  Tuesday – Wednesday – Thursday\nGrades 4-8 Skill development\, Health and Wellness. Lunch provided\nGrades 9-12 Skill development\, Health and Wellness. Lunch provided \nWeekly Guest Speakers \nDate and Time\nStart Date: June 24th\nEnd Date: July 31st\nDays: Tuesdays\, Wednesdays\, and Thursdays\nTime: 9:00 am to 2:30 pm \nGrades 4 – 8 9:00 am to 11:30 am\nGrades 9 – 12 12:00 pm to 2:30 pm \n30 spots available per session \nShannon Pullium\nDirector\, ShanPull Sports\nshanpullsports@yahoo.com
URL:https://shanpullsports.com/erie-sports-event/summer-basketball-skills-program/
LOCATION:ECAT BUILDING\, 650 East Avenue\, Erie\, PA\, 16503\, United States
CATEGORIES:Other Programs,Skills Development
ATTACH;FMTTYPE=image/jpeg:https://shanpullsports.com/wp-content/uploads/skillsprogram-drills.jpg
END:VEVENT
BEGIN:VEVENT
DTSTART;TZID=America/New_York:20230603T090000
DTEND;TZID=America/New_York:20230603T143000
DTSTAMP:20260422T073000
CREATED:20230517T141948Z
LAST-MODIFIED:20230517T180913Z
UID:5630-1685782800-1685802600@shanpullsports.com
SUMMARY:Free Basketball Skills Clinic
DESCRIPTION:Open to both boys and girls of the Erie School District Elementary Schools ( McKinley\, Harding\, Pfeiffer-Burleigh\, Edison\, Perry\, Lincoln\, Connell\, Grover Cleveland\, Jefferson\, Diehl). 12 spots are reserved for each school. 90 min sessions focusing on the fundamentals of Basketball: Passing\, dribbling\, and shooting. Each school’s Skills session time is TBD.
URL:https://shanpullsports.com/erie-sports-event/free-basketball-skills-clinic/
LOCATION:ECAT BUILDING\, 650 East Avenue\, Erie\, PA\, 16503\, United States
CATEGORIES:Skills Development
ATTACH;FMTTYPE=image/jpeg:https://shanpullsports.com/wp-content/uploads/AR-171009958.jpg
END:VEVENT
BEGIN:VEVENT
DTSTART;VALUE=DATE:20220118
DTEND;VALUE=DATE:20220309
DTSTAMP:20260422T073000
CREATED:20210710T000728Z
LAST-MODIFIED:20230511T023222Z
UID:4118-1642464000-1646783999@shanpullsports.com
SUMMARY:Junior Dribblers (Grades 3-5)
DESCRIPTION:Eight 60 min sessions. Focusing on fundamentals. Ball handling\,\nshooting\, passing and defensive techniques. Limit of 12 participants per session.
URL:https://shanpullsports.com/erie-sports-event/junior-dribblers/
LOCATION:PA
CATEGORIES:Skills Development
ATTACH;FMTTYPE=image/jpeg:https://shanpullsports.com/wp-content/uploads/Youth-Basketball-3.jpg
END:VEVENT
BEGIN:VEVENT
DTSTART;VALUE=DATE:20211101
DTEND;VALUE=DATE:20211213
DTSTAMP:20260422T073000
CREATED:20210710T001603Z
LAST-MODIFIED:20230511T022921Z
UID:4120-1635724800-1639353599@shanpullsports.com
SUMMARY:Middle School Hoopers
DESCRIPTION:Eight 90 min sessions. Focusing on Ball Handling\, shooting\, defense\, passing\, finishing around the rim\, as well as game concepts and offensive execution principles. Limit of 12 participants per session.
URL:https://shanpullsports.com/erie-sports-event/middle-school-hoopers/
LOCATION:PA
CATEGORIES:Skills Development
ATTACH;FMTTYPE=image/jpeg:https://shanpullsports.com/wp-content/uploads/youth-league.jpg
END:VEVENT
END:VCALENDAR